BEGIN:VCALENDAR
VERSION:2.0
PRODID:-//ATEC - ECPv6.15.20//NONSGML v1.0//EN
CALSCALE:GREGORIAN
METHOD:PUBLISH
X-WR-CALNAME:ATEC
X-ORIGINAL-URL:https://algaefoundationatec.org
X-WR-CALDESC:Events for ATEC
REFRESH-INTERVAL;VALUE=DURATION:PT1H
X-Robots-Tag:noindex
X-PUBLISHED-TTL:PT1H
BEGIN:VTIMEZONE
TZID:UTC
BEGIN:STANDARD
TZOFFSETFROM:+0000
TZOFFSETTO:+0000
TZNAME:UTC
DTSTART:20250101T000000
END:STANDARD
END:VTIMEZONE
BEGIN:VEVENT
DTSTART;VALUE=DATE:20260306
DTEND;VALUE=DATE:20260309
DTSTAMP:20260422T214959
CREATED:20260223T192936Z
LAST-MODIFIED:20260224T001208Z
UID:3113-1772755200-1773014399@algaefoundationatec.org
SUMMARY:3rd Annual Seaweed Workshop in Puerto Rico
DESCRIPTION:
URL:https://algaefoundationatec.org/event/3rd-annual-seaweed-workshop-in-puerto-rico/
END:VEVENT
END:VCALENDAR